BEGIN:VCALENDAR
VERSION:2.0
PRODID:-//Kräuter Faser Kreativ Werkstatt - ECPv6.15.20//NONSGML v1.0//EN
CALSCALE:GREGORIAN
METHOD:PUBLISH
X-ORIGINAL-URL:https://www.faserkreativ.at
X-WR-CALDESC:Veranstaltungen für Kräuter Faser Kreativ Werkstatt
REFRESH-INTERVAL;VALUE=DURATION:PT1H
X-Robots-Tag:noindex
X-PUBLISHED-TTL:PT1H
BEGIN:VTIMEZONE
TZID:Europe/Paris
BEGIN:DAYLIGHT
TZOFFSETFROM:+0100
TZOFFSETTO:+0200
TZNAME:CEST
DTSTART:20230326T010000
END:DAYLIGHT
BEGIN:STANDARD
TZOFFSETFROM:+0200
TZOFFSETTO:+0100
TZNAME:CET
DTSTART:20231029T010000
END:STANDARD
BEGIN:DAYLIGHT
TZOFFSETFROM:+0100
TZOFFSETTO:+0200
TZNAME:CEST
DTSTART:20240331T010000
END:DAYLIGHT
BEGIN:STANDARD
TZOFFSETFROM:+0200
TZOFFSETTO:+0100
TZNAME:CET
DTSTART:20241027T010000
END:STANDARD
BEGIN:DAYLIGHT
TZOFFSETFROM:+0100
TZOFFSETTO:+0200
TZNAME:CEST
DTSTART:20250330T010000
END:DAYLIGHT
BEGIN:STANDARD
TZOFFSETFROM:+0200
TZOFFSETTO:+0100
TZNAME:CET
DTSTART:20251026T010000
END:STANDARD
END:VTIMEZONE
BEGIN:VEVENT
DTSTART;TZID=Europe/Paris:20240803T090000
DTEND;TZID=Europe/Paris:20240803T170000
DTSTAMP:20260425T001723
CREATED:20240110T154423Z
LAST-MODIFIED:20240125T220152Z
UID:1428-1722675600-1722704400@www.faserkreativ.at
SUMMARY:Brennnessel Seminar am Serschenhof
DESCRIPTION:In diesem Seminar tauchen wir in die faszinierende Welt der Brennnessel ein! Wir unternehmen einen spannenden Ausflug in die Geschichte und die Mythen rund um die Wunderpflanze Brennnessel\, beleben altes Wissen über die Verarbeitung der Brennnesselfasern wieder\, von der Ernte bis hin zur Herstellung von Schnur\, und erleben die Kunst des Räucherns. Praktische Tipps für die Zubereitung kulinarischer Köstlichkeiten mit Brennnesseln dürfen natürlich nicht fehlen. Wir\, vom Verein Faser Kräuter Kreativ Werkstatt freuen uns auf einen wundervollen\, erlebnisreichen gemeinsamen Nachmittag! \nAnmeldung unter: verein@faserkreativ.at
URL:https://www.faserkreativ.at/termin/brennnessel-seminar-am-serschenhof/
LOCATION:Urwissen Seminarhaus\, Remschnigg 57\, Leutschach\, Steiermark\, 8463\, Österreich
CATEGORIES:Seminar
ATTACH;FMTTYPE=image/webp:https://www.faserkreativ.at/wp-content/uploads/2024/01/12c8a7_ac5f518829b448c69de0cc3cfa768fedmv2.webp
END:VEVENT
END:VCALENDAR