BEGIN:VCALENDAR
VERSION:2.0
PRODID:-//Kräuter Faser Kreativ Werkstatt - ECPv6.15.20//NONSGML v1.0//EN
CALSCALE:GREGORIAN
METHOD:PUBLISH
X-WR-CALNAME:Kräuter Faser Kreativ Werkstatt
X-ORIGINAL-URL:https://www.faserkreativ.at
X-WR-CALDESC:Veranstaltungen für Kräuter Faser Kreativ Werkstatt
REFRESH-INTERVAL;VALUE=DURATION:PT1H
X-Robots-Tag:noindex
X-PUBLISHED-TTL:PT1H
BEGIN:VTIMEZONE
TZID:Europe/Paris
BEGIN:DAYLIGHT
TZOFFSETFROM:+0100
TZOFFSETTO:+0200
TZNAME:CEST
DTSTART:20230326T010000
END:DAYLIGHT
BEGIN:STANDARD
TZOFFSETFROM:+0200
TZOFFSETTO:+0100
TZNAME:CET
DTSTART:20231029T010000
END:STANDARD
BEGIN:DAYLIGHT
TZOFFSETFROM:+0100
TZOFFSETTO:+0200
TZNAME:CEST
DTSTART:20240331T010000
END:DAYLIGHT
BEGIN:STANDARD
TZOFFSETFROM:+0200
TZOFFSETTO:+0100
TZNAME:CET
DTSTART:20241027T010000
END:STANDARD
BEGIN:DAYLIGHT
TZOFFSETFROM:+0100
TZOFFSETTO:+0200
TZNAME:CEST
DTSTART:20250330T010000
END:DAYLIGHT
BEGIN:STANDARD
TZOFFSETFROM:+0200
TZOFFSETTO:+0100
TZNAME:CET
DTSTART:20251026T010000
END:STANDARD
END:VTIMEZONE
BEGIN:VEVENT
DTSTART;TZID=Europe/Paris:20241005T100000
DTEND;TZID=Europe/Paris:20241005T100000
DTSTAMP:20260424T201739
CREATED:20240911T183131Z
LAST-MODIFIED:20240911T183817Z
UID:1576-1728122400-1728122400@www.faserkreativ.at
SUMMARY:Glücksbringer Event
DESCRIPTION:Ausstellung. Spirit. Kids Zone. Kulinarik
URL:https://www.faserkreativ.at/termin/gluecksbringer-event/
LOCATION:boomerang Actionpark\, Blindenmarkt\, 3372
CATEGORIES:Markt
ATTACH;FMTTYPE=image/jpeg:https://www.faserkreativ.at/wp-content/uploads/2024/09/Glueckbringer-1-e1726079477147.jpeg
END:VEVENT
END:VCALENDAR