BEGIN:VCALENDAR
VERSION:2.0
PRODID:-//Kräuter Faser Kreativ Werkstatt - ECPv6.15.20//NONSGML v1.0//EN
CALSCALE:GREGORIAN
METHOD:PUBLISH
X-WR-CALNAME:Kräuter Faser Kreativ Werkstatt
X-ORIGINAL-URL:https://www.faserkreativ.at
X-WR-CALDESC:Veranstaltungen für Kräuter Faser Kreativ Werkstatt
REFRESH-INTERVAL;VALUE=DURATION:PT1H
X-Robots-Tag:noindex
X-PUBLISHED-TTL:PT1H
BEGIN:VTIMEZONE
TZID:Europe/Paris
BEGIN:DAYLIGHT
TZOFFSETFROM:+0100
TZOFFSETTO:+0200
TZNAME:CEST
DTSTART:20240331T010000
END:DAYLIGHT
BEGIN:STANDARD
TZOFFSETFROM:+0200
TZOFFSETTO:+0100
TZNAME:CET
DTSTART:20241027T010000
END:STANDARD
BEGIN:DAYLIGHT
TZOFFSETFROM:+0100
TZOFFSETTO:+0200
TZNAME:CEST
DTSTART:20250330T010000
END:DAYLIGHT
BEGIN:STANDARD
TZOFFSETFROM:+0200
TZOFFSETTO:+0100
TZNAME:CET
DTSTART:20251026T010000
END:STANDARD
BEGIN:DAYLIGHT
TZOFFSETFROM:+0100
TZOFFSETTO:+0200
TZNAME:CEST
DTSTART:20260329T010000
END:DAYLIGHT
BEGIN:STANDARD
TZOFFSETFROM:+0200
TZOFFSETTO:+0100
TZNAME:CET
DTSTART:20261025T010000
END:STANDARD
END:VTIMEZONE
BEGIN:VEVENT
DTSTART;TZID=Europe/Paris:20250129T180000
DTEND;TZID=Europe/Paris:20250129T180000
DTSTAMP:20260424T165223
CREATED:20250112T110654Z
LAST-MODIFIED:20250113T095508Z
UID:2498-1738173600-1738173600@www.faserkreativ.at
SUMMARY:Imbolc & Maria Lichtmesse – Passende Kräuter und Anwendungen
DESCRIPTION:Lasst uns gemeinsam in die Magie von Imbolc und Maria Lichtmesse eintauchen! Entdeckt die kraftvollen Wirkungen von traditionellen Kräutern und erfahrt\, wie sie in Anwendungen genutzt werden können. \nImbolc\, eines der vier großen keltischen Jahresfeste\, wird traditionell am 1. Februar gefeiert und markiert den Übergang vom Winter zum Frühling. Es ist ein Fest des Lichts und der Erneuerung\, das die zunehmende Kraft der Sonne begrüßt. Dabei stehen Pflanzen wie Birke\, Weide und Gänseblümchen im Fokus. \nMaria Lichtmesse wird 40 Tage nach Weihnachten gefeiert und ist ein christliches Fest\, das das zunehmende Licht und die Reinigung thematisiert. \nWir treffen uns um 18:00 Uhr beim öffentlichen Parkplatz beim Gemeindeamt\, Schulstraße / 4407 Dietach und spazieren gemeinsam zu unserem Vereinstreffen. \nMelde dich bitte an unter:\nverein@faserkreativ.at \nNimm doch am besten gleich noch wen mit. Wir freuen uns auf euer Kommen! \nWir bitten um eine Vereinsspende von € 10\,–
URL:https://www.faserkreativ.at/termin/vereinsabend-7/
LOCATION:Vereinslokal\, Schulstraße\, Dietach\, 4407\, Austria
CATEGORIES:Vereinsabend
ATTACH;FMTTYPE=image/jpeg:https://www.faserkreativ.at/wp-content/uploads/2024/01/vereinsabend.jpg
END:VEVENT
END:VCALENDAR