BEGIN:VCALENDAR
VERSION:2.0
PRODID:-//Kräuter Faser Kreativ Werkstatt - ECPv6.15.20//NONSGML v1.0//EN
CALSCALE:GREGORIAN
METHOD:PUBLISH
X-ORIGINAL-URL:https://www.faserkreativ.at
X-WR-CALDESC:Veranstaltungen für Kräuter Faser Kreativ Werkstatt
REFRESH-INTERVAL;VALUE=DURATION:PT1H
X-Robots-Tag:noindex
X-PUBLISHED-TTL:PT1H
BEGIN:VTIMEZONE
TZID:Europe/Paris
BEGIN:DAYLIGHT
TZOFFSETFROM:+0100
TZOFFSETTO:+0200
TZNAME:CEST
DTSTART:20240331T010000
END:DAYLIGHT
BEGIN:STANDARD
TZOFFSETFROM:+0200
TZOFFSETTO:+0100
TZNAME:CET
DTSTART:20241027T010000
END:STANDARD
BEGIN:DAYLIGHT
TZOFFSETFROM:+0100
TZOFFSETTO:+0200
TZNAME:CEST
DTSTART:20250330T010000
END:DAYLIGHT
BEGIN:STANDARD
TZOFFSETFROM:+0200
TZOFFSETTO:+0100
TZNAME:CET
DTSTART:20251026T010000
END:STANDARD
BEGIN:DAYLIGHT
TZOFFSETFROM:+0100
TZOFFSETTO:+0200
TZNAME:CEST
DTSTART:20260329T010000
END:DAYLIGHT
BEGIN:STANDARD
TZOFFSETFROM:+0200
TZOFFSETTO:+0100
TZNAME:CET
DTSTART:20261025T010000
END:STANDARD
END:VTIMEZONE
BEGIN:VEVENT
DTSTART;TZID=Europe/Paris:20250711T130000
DTEND;TZID=Europe/Paris:20250711T180000
DTSTAMP:20260420T060644
CREATED:20250425T163819Z
LAST-MODIFIED:20250425T163819Z
UID:2564-1752238800-1752256800@www.faserkreativ.at
SUMMARY:Brennnessel Seminar
DESCRIPTION:Brennnnessel – die vergessene Wunderpflanze! \nFür wen:für alle Brennnnessel Begeisterte mit wetterfester KleidungBitte eine Gartenschere\, Messer und Arbeitshandschuhe mitbringen. \nWann:am Freitag\, 11. Juli 2025\, um 13–18h! \nWo:Verein Faser Kräuter Kreativ Werkstattin Garsten\, Maurus-Gordonstr. 9 \nWas:Wir unternehmen einen kleinen Ausflug in die Geschichte\,hören Sagen und erfahren Wissenswertes über dieBrennesselfaser-Verarbeitung – von der Ernte bis zurSchnur. Kombiniert mit Räucherung und praktischen Tipps\,einer Verkostung und kulinarische Köstlichkeiten erwarteteuch ein tolles Seminar!Vereinsspende von 45€ pro Person \nWir freuen uns gemeinsam mit euch den Nachmittag zu verbringen\, in die Faszination alter Faserpflanzen einzutauchen und unseren Verein Faser Kräuter Kreativ Werkstatt vorzustellen!
URL:https://www.faserkreativ.at/termin/brennnessel-seminar/
LOCATION:Verein Faser Kräuter Kreativ Werkstatt\, Maurus-Gordonstraße 9\, Garsten\, 4451\, Österreich
CATEGORIES:Seminar
ATTACH;FMTTYPE=image/gif:https://www.faserkreativ.at/wp-content/uploads/2025/04/Green-Photo-Music-YouTube-Thumbnail-1.gif
END:VEVENT
END:VCALENDAR