BEGIN:VCALENDAR
VERSION:2.0
PRODID:-//Kräuter Faser Kreativ Werkstatt - ECPv6.15.20//NONSGML v1.0//EN
CALSCALE:GREGORIAN
METHOD:PUBLISH
X-WR-CALNAME:Kräuter Faser Kreativ Werkstatt
X-ORIGINAL-URL:https://www.faserkreativ.at
X-WR-CALDESC:Veranstaltungen für Kräuter Faser Kreativ Werkstatt
REFRESH-INTERVAL;VALUE=DURATION:PT1H
X-Robots-Tag:noindex
X-PUBLISHED-TTL:PT1H
BEGIN:VTIMEZONE
TZID:Europe/Paris
BEGIN:DAYLIGHT
TZOFFSETFROM:+0100
TZOFFSETTO:+0200
TZNAME:CEST
DTSTART:20240331T010000
END:DAYLIGHT
BEGIN:STANDARD
TZOFFSETFROM:+0200
TZOFFSETTO:+0100
TZNAME:CET
DTSTART:20241027T010000
END:STANDARD
BEGIN:DAYLIGHT
TZOFFSETFROM:+0100
TZOFFSETTO:+0200
TZNAME:CEST
DTSTART:20250330T010000
END:DAYLIGHT
BEGIN:STANDARD
TZOFFSETFROM:+0200
TZOFFSETTO:+0100
TZNAME:CET
DTSTART:20251026T010000
END:STANDARD
BEGIN:DAYLIGHT
TZOFFSETFROM:+0100
TZOFFSETTO:+0200
TZNAME:CEST
DTSTART:20260329T010000
END:DAYLIGHT
BEGIN:STANDARD
TZOFFSETFROM:+0200
TZOFFSETTO:+0100
TZNAME:CET
DTSTART:20261025T010000
END:STANDARD
END:VTIMEZONE
BEGIN:VEVENT
DTSTART;TZID=Europe/Paris:20250924T180000
DTEND;TZID=Europe/Paris:20250924T180000
DTSTAMP:20260420T022127
CREATED:20250112T181354Z
LAST-MODIFIED:20250112T181354Z
UID:2519-1758736800-1758736800@www.faserkreativ.at
SUMMARY:Oxymel – Natürliche Immunbooster - Lughnasad
DESCRIPTION:Stärkt euer Immunsystem auf natürliche Weise! Lernt alles über die Herstellung von Oxymel – eine köstliche und heilsame Mischung aus Kräutern und Honig\, perfekt für den Herbst. Oxymel ist ein uraltes Wissen\, das bereits in der Antike für seine wohltuenden und heilenden Eigenschaften geschätzt wurde. \nPassend dazu feiern wir Lughnasad\, das erste Erntefest im Jahreskreis\, das die Fülle der Natur und den Beginn der Erntezeit würdigt. Lughnasad\, benannt nach dem keltischen Sonnengott Lugh\, lädt uns ein\, Dankbarkeit für die Geschenke der Erde zu zeigen und die Verbindung zur Natur und Gemeinschaft zu stärken. \nWir treffen uns um 18:00 Uhr beim öffentlichen Parkplatz beim Gemeindeamt\, Schulstraße / 4407 Dietach und spazieren gemeinsam zu unserem Vereinstreffen. \nMelde dich bitte an unter:\nverein@faserkreativ.at \nNimm doch am besten gleich noch wen mit. Wir freuen uns auf euer Kommen! \nWir bitten um eine Vereinsspende von € 10\,–
URL:https://www.faserkreativ.at/termin/oxymel-natuerliche-immunbooster-lughnasad/
LOCATION:Vereinslokal\, Schulstraße\, Dietach\, 4407\, Austria
CATEGORIES:Vereinsabend
ATTACH;FMTTYPE=image/jpeg:https://www.faserkreativ.at/wp-content/uploads/2024/01/vereinsabend.jpg
ORGANIZER;CN="Verein Faser Kr%C3%A4uter Kreativ Werkstatt":MAILTO:verein@faserkreativ.at
END:VEVENT
END:VCALENDAR