BEGIN:VCALENDAR
VERSION:2.0
PRODID:-//Kräuter Faser Kreativ Werkstatt - ECPv6.15.20//NONSGML v1.0//EN
CALSCALE:GREGORIAN
METHOD:PUBLISH
X-WR-CALNAME:Kräuter Faser Kreativ Werkstatt
X-ORIGINAL-URL:https://www.faserkreativ.at
X-WR-CALDESC:Veranstaltungen für Kräuter Faser Kreativ Werkstatt
REFRESH-INTERVAL;VALUE=DURATION:PT1H
X-Robots-Tag:noindex
X-PUBLISHED-TTL:PT1H
BEGIN:VTIMEZONE
TZID:Europe/Paris
BEGIN:DAYLIGHT
TZOFFSETFROM:+0100
TZOFFSETTO:+0200
TZNAME:CEST
DTSTART:20240331T010000
END:DAYLIGHT
BEGIN:STANDARD
TZOFFSETFROM:+0200
TZOFFSETTO:+0100
TZNAME:CET
DTSTART:20241027T010000
END:STANDARD
BEGIN:DAYLIGHT
TZOFFSETFROM:+0100
TZOFFSETTO:+0200
TZNAME:CEST
DTSTART:20250330T010000
END:DAYLIGHT
BEGIN:STANDARD
TZOFFSETFROM:+0200
TZOFFSETTO:+0100
TZNAME:CET
DTSTART:20251026T010000
END:STANDARD
BEGIN:DAYLIGHT
TZOFFSETFROM:+0100
TZOFFSETTO:+0200
TZNAME:CEST
DTSTART:20260329T010000
END:DAYLIGHT
BEGIN:STANDARD
TZOFFSETFROM:+0200
TZOFFSETTO:+0100
TZNAME:CET
DTSTART:20261025T010000
END:STANDARD
END:VTIMEZONE
BEGIN:VEVENT
DTSTART;TZID=Europe/Paris:20251029T180000
DTEND;TZID=Europe/Paris:20251029T180000
DTSTAMP:20260419T225913
CREATED:20250112T182425Z
LAST-MODIFIED:20250112T182425Z
UID:2523-1761760800-1761760800@www.faserkreativ.at
SUMMARY:Samhain – Lagerfeuerabend in Garsten
DESCRIPTION:Feiert mit uns Samhain am Lagerfeuer in Garsten. Taucht ein in die Welt von Wacholder\, Engelwurz und Baldrian und genießt die besondere Atmosphäre dieses Abends. \nSamhain\, eines der wichtigsten keltischen Feste\, markiert den Beginn des Winters und das Ende der Erntezeit. Es ist eine Zeit\, um der Ahnen zu gedenken\, die dunklere Jahreszeit willkommen zu heißen und das alte Jahr abzuschließen. Viele Bräuche und Rituale ranken sich um den Schutz vor bösen Geistern und die Ehrung der Verbindung zwischen Leben und Tod. \nWir treffen uns um 18:00 Uhr in Garsten. \nMelde dich bitte an unter: \nverein@faserkreativ.at \nNimm doch am besten gleich noch wen mit. Wir freuen uns auf euer Kommen! \nWir bitten um eine Vereinsspende von € 10\,–
URL:https://www.faserkreativ.at/termin/samhain-lagerfeuerabend-in-garsten-2/
LOCATION:Verein Faser Kräuter Kreativ Werkstatt\, Maurus-Gordonstraße 9\, Garsten\, 4451\, Österreich
CATEGORIES:Vereinsabend
ATTACH;FMTTYPE=image/jpeg:https://www.faserkreativ.at/wp-content/uploads/2024/01/vereinsabend.jpg
ORGANIZER;CN="Verein Faser Kr%C3%A4uter Kreativ Werkstatt":MAILTO:verein@faserkreativ.at
END:VEVENT
END:VCALENDAR