BEGIN:VCALENDAR
VERSION:2.0
PRODID:-//Kräuter Faser Kreativ Werkstatt - ECPv6.15.20//NONSGML v1.0//EN
CALSCALE:GREGORIAN
METHOD:PUBLISH
X-WR-CALNAME:Kräuter Faser Kreativ Werkstatt
X-ORIGINAL-URL:https://www.faserkreativ.at
X-WR-CALDESC:Veranstaltungen für Kräuter Faser Kreativ Werkstatt
REFRESH-INTERVAL;VALUE=DURATION:PT1H
X-Robots-Tag:noindex
X-PUBLISHED-TTL:PT1H
BEGIN:VTIMEZONE
TZID:Europe/Paris
BEGIN:DAYLIGHT
TZOFFSETFROM:+0100
TZOFFSETTO:+0200
TZNAME:CEST
DTSTART:20250330T010000
END:DAYLIGHT
BEGIN:STANDARD
TZOFFSETFROM:+0200
TZOFFSETTO:+0100
TZNAME:CET
DTSTART:20251026T010000
END:STANDARD
BEGIN:DAYLIGHT
TZOFFSETFROM:+0100
TZOFFSETTO:+0200
TZNAME:CEST
DTSTART:20260329T010000
END:DAYLIGHT
BEGIN:STANDARD
TZOFFSETFROM:+0200
TZOFFSETTO:+0100
TZNAME:CET
DTSTART:20261025T010000
END:STANDARD
BEGIN:DAYLIGHT
TZOFFSETFROM:+0100
TZOFFSETTO:+0200
TZNAME:CEST
DTSTART:20270328T010000
END:DAYLIGHT
BEGIN:STANDARD
TZOFFSETFROM:+0200
TZOFFSETTO:+0100
TZNAME:CET
DTSTART:20271031T010000
END:STANDARD
END:VTIMEZONE
BEGIN:VEVENT
DTSTART;TZID=Europe/Paris:20260418T100000
DTEND;TZID=Europe/Paris:20260418T170000
DTSTAMP:20260419T143612
CREATED:20260324T225042Z
LAST-MODIFIED:20260324T225042Z
UID:2649-1776506400-1776531600@www.faserkreativ.at
SUMMARY:Kunst trifft Workshop – wir sind dabei!
DESCRIPTION:Wir sind mit der Faser Kräuter Kreativ Werkstatt bei der Kunst trifft Workshop im Veranstaltungssaal Garsten vertreten. \nBei unserem Stand geben wir Einblicke in unsere Arbeit mit Naturmaterialien\, Kräutern und Fasern.Besonders die Brennnessel als vielseitige Pflanze steht dabei im Mittelpunkt – von der Pflanze bis zum fertigen Werkstück. \nIhr könnt uns kennenlernen\, Fragen stellen und unsere handgemachten Produkte entdecken. \nKommt vorbei und erlebt\, was unsere Arbeit ausmacht – wir freuen uns auf euch! \nFlyer downloaden
URL:https://www.faserkreativ.at/termin/kunst-trifft-workshop-wir-sind-dabei/
LOCATION:Veranstaltungssaal Garsten\, Marian Rittinger-Straße 13\, Garsten\, 4451
CATEGORIES:Markt
ATTACH;FMTTYPE=image/png:https://www.faserkreativ.at/wp-content/uploads/2026/03/Kopie-von-Mit-der-Brennnessel-durch-Jahr-1.png
END:VEVENT
END:VCALENDAR