BEGIN:VCALENDAR
VERSION:2.0
PRODID:-//Kräuter Faser Kreativ Werkstatt - ECPv6.15.20//NONSGML v1.0//EN
CALSCALE:GREGORIAN
METHOD:PUBLISH
X-WR-CALNAME:Kräuter Faser Kreativ Werkstatt
X-ORIGINAL-URL:https://www.faserkreativ.at
X-WR-CALDESC:Veranstaltungen für Kräuter Faser Kreativ Werkstatt
REFRESH-INTERVAL;VALUE=DURATION:PT1H
X-Robots-Tag:noindex
X-PUBLISHED-TTL:PT1H
BEGIN:VTIMEZONE
TZID:Europe/Paris
BEGIN:DAYLIGHT
TZOFFSETFROM:+0100
TZOFFSETTO:+0200
TZNAME:CEST
DTSTART:20230326T010000
END:DAYLIGHT
BEGIN:STANDARD
TZOFFSETFROM:+0200
TZOFFSETTO:+0100
TZNAME:CET
DTSTART:20231029T010000
END:STANDARD
BEGIN:DAYLIGHT
TZOFFSETFROM:+0100
TZOFFSETTO:+0200
TZNAME:CEST
DTSTART:20240331T010000
END:DAYLIGHT
BEGIN:STANDARD
TZOFFSETFROM:+0200
TZOFFSETTO:+0100
TZNAME:CET
DTSTART:20241027T010000
END:STANDARD
BEGIN:DAYLIGHT
TZOFFSETFROM:+0100
TZOFFSETTO:+0200
TZNAME:CEST
DTSTART:20250330T010000
END:DAYLIGHT
BEGIN:STANDARD
TZOFFSETFROM:+0200
TZOFFSETTO:+0100
TZNAME:CET
DTSTART:20251026T010000
END:STANDARD
END:VTIMEZONE
BEGIN:VEVENT
DTSTART;TZID=Europe/Paris:20241109T100000
DTEND;TZID=Europe/Paris:20241109T170000
DTSTAMP:20260424T174850
CREATED:20240911T180412Z
LAST-MODIFIED:20240911T181836Z
UID:1560-1731146400-1731171600@www.faserkreativ.at
SUMMARY:Kunsthandwerks & Kreativ - Markt
DESCRIPTION:Hier kannst du das Programm downloaden.
URL:https://www.faserkreativ.at/termin/kunsthandwerks-kreativ-markt-2/
LOCATION:Veranstaltungssaal Garsten\, Marian Rittinger-Straße 13\, Garsten\, 4451
CATEGORIES:Markt
ATTACH;FMTTYPE=image/jpeg:https://www.faserkreativ.at/wp-content/uploads/2024/09/WhatsApp-Image-2024-09-11-at-19.56.34-e1726078705351.jpeg
END:VEVENT
BEGIN:VEVENT
DTSTART;TZID=Europe/Paris:20241127T150000
DTEND;TZID=Europe/Paris:20241127T200000
DTSTAMP:20260424T174850
CREATED:20240102T201927Z
LAST-MODIFIED:20241125T132616Z
UID:1408-1732719600-1732737600@www.faserkreativ.at
SUMMARY:Vereinsabend
DESCRIPTION:Adventkranz binden\, Räuchern und Vorbereitung auf die stille Zeit. \nWir treffen uns am Mittwoch in Garsten\, Maurus-Gordonstraße 9\,  Eingang im Garten!\nWir sind zum Adventkranz binden schon von 15:00 Uhr bis 20:00 Uhr für euch da!\nWir freuen uns! \nMelde dich bitte an unter:\nverein@faserkreativ.at \nNimm doch am besten gleich noch wen mit. Wir freuen uns auf euer Kommen! \nWir bitten um eine Vereinsspende von € 10\,–!
URL:https://www.faserkreativ.at/termin/vereinsabend-6/
CATEGORIES:Vereinsabend
ATTACH;FMTTYPE=image/jpeg:https://www.faserkreativ.at/wp-content/uploads/2024/01/vereinsabend.jpg
ORGANIZER;CN="Verein Faser Kr%C3%A4uter Kreativ Werkstatt":MAILTO:verein@faserkreativ.at
END:VEVENT
BEGIN:VEVENT
DTSTART;TZID=Europe/Paris:20241130T100000
DTEND;TZID=Europe/Paris:20241208T180000
DTSTAMP:20260424T174850
CREATED:20240911T185432Z
LAST-MODIFIED:20241125T122746Z
UID:1579-1732960800-1733680800@www.faserkreativ.at
SUMMARY:Garstner Adventmakt
DESCRIPTION:Der Garstner Advent ist ein traditioneller Adventmarkt\, der am 1. Adventwochenende stattfindet. Verschiedene Aussteller präsentieren handgemachte Produkte\, Kulinarisches und Kunsthandwerk in einer festlichen Atmosphäre. Es ist eine wunderbare Gelegenheit\, lokale Handwerkskunst zu erleben und sich auf die Weihnachtszeit einzustimmen. \nDie Öffnungszeiten des Garstner Advents sind: \nSamstag\, 30. November 2024: 10:00 bis 18:00 Uhr\nSonntag\, 1. Dezember 2024: 10:00 bis 18:00 Uhr​\nSamstag\, 7. Dezember 2024: 10:00 bis 18:00 Uhr\nSonntag\, 8. Dezember 2024: 10:00 bis 18:00 Uhr​
URL:https://www.faserkreativ.at/termin/garstner-adventmakt/
CATEGORIES:Markt
ATTACH;FMTTYPE=image/png:https://www.faserkreativ.at/wp-content/uploads/2024/09/Garstner_Adventmarkt.png
END:VEVENT
END:VCALENDAR