BEGIN:VCALENDAR
VERSION:2.0
PRODID:-//Kräuter Faser Kreativ Werkstatt - ECPv6.15.20//NONSGML v1.0//EN
CALSCALE:GREGORIAN
METHOD:PUBLISH
X-ORIGINAL-URL:https://www.faserkreativ.at
X-WR-CALDESC:Veranstaltungen für Kräuter Faser Kreativ Werkstatt
REFRESH-INTERVAL;VALUE=DURATION:PT1H
X-Robots-Tag:noindex
X-PUBLISHED-TTL:PT1H
BEGIN:VTIMEZONE
TZID:Europe/Paris
BEGIN:DAYLIGHT
TZOFFSETFROM:+0100
TZOFFSETTO:+0200
TZNAME:CEST
DTSTART:20240331T010000
END:DAYLIGHT
BEGIN:STANDARD
TZOFFSETFROM:+0200
TZOFFSETTO:+0100
TZNAME:CET
DTSTART:20241027T010000
END:STANDARD
BEGIN:DAYLIGHT
TZOFFSETFROM:+0100
TZOFFSETTO:+0200
TZNAME:CEST
DTSTART:20250330T010000
END:DAYLIGHT
BEGIN:STANDARD
TZOFFSETFROM:+0200
TZOFFSETTO:+0100
TZNAME:CET
DTSTART:20251026T010000
END:STANDARD
BEGIN:DAYLIGHT
TZOFFSETFROM:+0100
TZOFFSETTO:+0200
TZNAME:CEST
DTSTART:20260329T010000
END:DAYLIGHT
BEGIN:STANDARD
TZOFFSETFROM:+0200
TZOFFSETTO:+0100
TZNAME:CET
DTSTART:20261025T010000
END:STANDARD
END:VTIMEZONE
BEGIN:VEVENT
DTSTART;TZID=Europe/Paris:20250513T183000
DTEND;TZID=Europe/Paris:20250513T183000
DTSTAMP:20260424T100950
CREATED:20250324T173910Z
LAST-MODIFIED:20250324T175949Z
UID:2553-1747161000-1747161000@www.faserkreativ.at
SUMMARY:Vortrag "Die Wunderpflanze Brennnessel"
DESCRIPTION:Ort: Hofburg\, 1010 Wien\, Michaelerkuppel\, Batthyanystiege\, Mezzanin (Alt Wiener Bund) \nVortrag mit drei Kräuterpädagoginnen vom Verein Faser Kräuter Kreativ Werkstatt in der Hofburg\n\nErlebe die Vielfalt unserer Brennnesselkreationen! \nVon kulinarischen Leckerbissen\, bis zu Verarbeitung der Faser. \nBeginn: 18:30\nOrt: Hofburg\, 1010 Wien\, Michaelerkuppel\, Batthyanystiege\, Mezzanin (Alt Wiener Bund)\nAbendbeitrag: EUR 10\,-; EUR 5\,- für Mitglieder des Forum für Radiästhesie und Geobiologie \nAnmeldung direkt auf der Homepage des Veranstalters: zur Homepage
URL:https://www.faserkreativ.at/termin/vortrag-die-wunderpflanze-brennnessel/
LOCATION:Hofburg\, Wien\, 1010\, Austria
ATTACH;FMTTYPE=image/png:https://www.faserkreativ.at/wp-content/uploads/2025/03/Bildschirmfoto-2025-03-24-um-18.38.42.png
END:VEVENT
BEGIN:VEVENT
DTSTART;TZID=Europe/Paris:20250528T180000
DTEND;TZID=Europe/Paris:20250528T180000
DTSTAMP:20260424T100950
CREATED:20250112T180545Z
LAST-MODIFIED:20250112T180615Z
UID:2515-1748455200-1748455200@www.faserkreativ.at
SUMMARY:Kräuterwanderung in Dietach
DESCRIPTION:Packt eure festen Schuhe und kommt mit auf eine spannende Kräuterwanderung durch Dietach. Erlebt die Natur hautnah und entdeckt Heilpflanzen in ihrer natürlichen Umgebung! \nWir treffen uns um 18:00 Uhr beim öffentlichen Parkplatz beim Gemeindeamt\, Schulstraße / 4407 Dietach. \nMelde dich bitte an unter:\nverein@faserkreativ.at \nNimm doch am besten gleich noch wen mit. Wir freuen uns auf euer Kommen! \nWir bitten um eine Vereinsspende von € 10\,–
URL:https://www.faserkreativ.at/termin/kraeuterwanderung-in-dietach/
CATEGORIES:Vereinsabend
ATTACH;FMTTYPE=image/jpeg:https://www.faserkreativ.at/wp-content/uploads/2024/01/vereinsabend.jpg
ORGANIZER;CN="Verein Faser Kr%C3%A4uter Kreativ Werkstatt":MAILTO:verein@faserkreativ.at
END:VEVENT
END:VCALENDAR