BEGIN:VCALENDAR
VERSION:2.0
PRODID:-//Kräuter Faser Kreativ Werkstatt - ECPv6.15.20//NONSGML v1.0//EN
CALSCALE:GREGORIAN
METHOD:PUBLISH
X-WR-CALNAME:Kräuter Faser Kreativ Werkstatt
X-ORIGINAL-URL:https://www.faserkreativ.at
X-WR-CALDESC:Veranstaltungen für Kräuter Faser Kreativ Werkstatt
REFRESH-INTERVAL;VALUE=DURATION:PT1H
X-Robots-Tag:noindex
X-PUBLISHED-TTL:PT1H
BEGIN:VTIMEZONE
TZID:Europe/Paris
BEGIN:DAYLIGHT
TZOFFSETFROM:+0100
TZOFFSETTO:+0200
TZNAME:CEST
DTSTART:20250330T010000
END:DAYLIGHT
BEGIN:STANDARD
TZOFFSETFROM:+0200
TZOFFSETTO:+0100
TZNAME:CET
DTSTART:20251026T010000
END:STANDARD
BEGIN:DAYLIGHT
TZOFFSETFROM:+0100
TZOFFSETTO:+0200
TZNAME:CEST
DTSTART:20260329T010000
END:DAYLIGHT
BEGIN:STANDARD
TZOFFSETFROM:+0200
TZOFFSETTO:+0100
TZNAME:CET
DTSTART:20261025T010000
END:STANDARD
BEGIN:DAYLIGHT
TZOFFSETFROM:+0100
TZOFFSETTO:+0200
TZNAME:CEST
DTSTART:20270328T010000
END:DAYLIGHT
BEGIN:STANDARD
TZOFFSETFROM:+0200
TZOFFSETTO:+0100
TZNAME:CET
DTSTART:20271031T010000
END:STANDARD
END:VTIMEZONE
BEGIN:VEVENT
DTSTART;TZID=Europe/Paris:20260325T180000
DTEND;TZID=Europe/Paris:20260325T180000
DTSTAMP:20260419T142053
CREATED:20260304T201756Z
LAST-MODIFIED:20260311T104109Z
UID:2627-1774461600-1774461600@www.faserkreativ.at
SUMMARY:Mit der Brennnessel durchs Jahr – Osterbrunch mit wilden Kräften
DESCRIPTION:🌿 Offener Kräuterabend im Jahreskreis – die Brennnessel als Wegbegleiterin.Wir bereiten gemeinsam einen kleinen Osterbrunch zu und lassen Frühlingskräuter und alte Bräuche einfließen. \nWir treffen uns um 18:00 Uhr beim öffentlichen Parkplatz beim Gemeindeamt\, Schulstraße / 4407 Dietach und spazieren gemeinsam zu unserem Vereinstreffen. \nMelde dich bitte an unter:\nverein@faserkreativ.at \nNimm doch am besten gleich noch wen mit. Wir freuen uns auf euer Kommen! \nWir bitten um eine Vereinsspende von € 10\,–
URL:https://www.faserkreativ.at/termin/mit-der-brennnessel-durchs-jahr-osterbrunch-mit-wilden-kraeften/
LOCATION:Vereinslokal\, Schulstraße\, Dietach\, 4407\, Austria
CATEGORIES:Vereinsabend
ATTACH;FMTTYPE=image/png:https://www.faserkreativ.at/wp-content/uploads/2026/01/Mit-der-Brennnessel-durch-Jahr.png
ORGANIZER;CN="Verein Faser Kr%C3%A4uter Kreativ Werkstatt":MAILTO:verein@faserkreativ.at
END:VEVENT
BEGIN:VEVENT
DTSTART;TZID=Europe/Paris:20260328T090000
DTEND;TZID=Europe/Paris:20260328T170000
DTSTAMP:20260419T142053
CREATED:20260324T222836Z
LAST-MODIFIED:20260324T222836Z
UID:2642-1774688400-1774717200@www.faserkreativ.at
SUMMARY:Ostermarkt Haid – Wir sind dabei! 🐰
DESCRIPTION:Wir sind mit der Faser Kräuter Kreativ Werkstatt beim Ostermarkt in Haid vertreten – und freuen uns sehr auf euren Besuch! \nBei unserem Stand bekommt ihr Einblicke in altes Handwerk und natürliche Materialien:Wir zeigen\, wie aus Pflanzen Fasern entstehen\, und erzählen euch Spannendes über die Brennnessel als vielseitige Faserpflanze. \nNatürlich haben wir auch viele unserer handgemachten Produkte mit dabei – ideal zum Stöbern\, Verschenken oder Selbst-Behalten. \nKommt vorbei\, entdeckt traditionelles Handwerk neu und lernt uns persönlich kennen – wir freuen uns auf euch! \nFlyer downloaden
URL:https://www.faserkreativ.at/termin/ostermarkt-haid-wir-sind-dabei-%f0%9f%90%b0/
LOCATION:Autobahnkirche Haid\, Kirchenstraße 1\, Haid\, 4053
CATEGORIES:Markt
ATTACH;FMTTYPE=image/png:https://www.faserkreativ.at/wp-content/uploads/2026/03/Kopie-von-Mit-der-Brennnessel-durch-Jahr.png
END:VEVENT
END:VCALENDAR